BEGIN:VCALENDAR
VERSION:2.0
PRODID:-//Pôle PIXEL //NONSGML Events //EN
CALSCALE:GREGORIAN
X-WR-CALNAME:Pôle PIXEL
BEGIN:VEVENT
CREATED:20260421T084424Z
UID:12788
DTEND;VALUE=DATE:20260513T110000
DTSTART;VALUE=DATE:20260513T093000
DTSTAMP:20260423T103528Z
LOCATION:Pôle PIXEL — 24 rue Émile Decorps
DESCRIPTION:Matinée du Pôle la Facturation électronique
SUMMARY:Matinée du Pôle: La Facturation électronique
ORGANIZER:Pôle PIXEL
URL;VALUE=URI:https://polepixel.fr/evenement/matinee-du-pole-la-facturation-electronique/
TRANSP:OPAQUE
BEGIN:VALARM
ACTION:DISPLAY
DESCRIPTION:Reminder for Matinée du Pôle: La Facturation électronique
END:VALARM
END:VEVENT
END:VCALENDAR
