BEGIN:VCALENDAR
VERSION:2.0
PRODID:-//Pôle PIXEL //NONSGML Events //EN
CALSCALE:GREGORIAN
X-WR-CALNAME:Pôle PIXEL
BEGIN:VEVENT
CREATED:20260306T130817Z
UID:12730
DTEND;VALUE=DATE:20260402T110000
DTSTART;VALUE=DATE:20260402T093000
DTSTAMP:20260423T160253Z
LOCATION:Pôle PIXEL — 24 rue Émile Decorps
DESCRIPTION:Matinée du Pôle avec La Fabrication Humaine
SUMMARY:Matinée du Pôle: Fabrication Humaine
ORGANIZER:Pôle PIXEL
URL;VALUE=URI:https://polepixel.fr/evenement/matinee-du-pole-fabrication-humaine/
TRANSP:OPAQUE
BEGIN:VALARM
ACTION:DISPLAY
DESCRIPTION:Reminder for Matinée du Pôle: Fabrication Humaine
END:VALARM
END:VEVENT
END:VCALENDAR
