BEGIN:VCALENDAR
VERSION:2.0
PRODID:-//Pôle PIXEL //NONSGML Events //EN
CALSCALE:GREGORIAN
X-WR-CALNAME:Pôle PIXEL
BEGIN:VEVENT
CREATED:20260225T090444Z
UID:12697
DTEND;VALUE=DATE:20260331T110000
DTSTART;VALUE=DATE:20260331T093000
DTSTAMP:20260423T103528Z
LOCATION:Pôle PIXEL — 24 rue Émile Decorps
DESCRIPTION:Les Matinées de la French Touch x Pôle PIXEL
SUMMARY:Les Matinées de la French Touch x Pôle PIXEL
ORGANIZER:Pôle PIXEL
URL;VALUE=URI:https://polepixel.fr/evenement/les-matinees-de-la-french-touch-x-pole-pixel/
TRANSP:OPAQUE
BEGIN:VALARM
ACTION:DISPLAY
DESCRIPTION:Reminder for Les Matinées de la French Touch x Pôle PIXEL
END:VALARM
END:VEVENT
END:VCALENDAR
