BEGIN:VCALENDAR
VERSION:2.0
PRODID:-//Pôle PIXEL //NONSGML Events //EN
CALSCALE:GREGORIAN
X-WR-CALNAME:Pôle PIXEL
BEGIN:VEVENT
CREATED:20260120T131110Z
UID:12634
DTEND;VALUE=DATE:20260204T170000
DTSTART;VALUE=DATE:20260204T093000
DTSTAMP:20260423T103528Z
LOCATION:Ecole de Musique et Danse\, 97 place Montmain (73400 Ugine).
DESCRIPTION:Bienheureuse Rencontre #12 &#8211; Art numérique et ruralité. Une rencontre professionnelle organisée par le Pôle PIXEL (Pôle de Ressource Régional...
SUMMARY:BIENHEUREUSE RENCONTRE #12 x Univers Numérique (Ugine)
ORGANIZER:Pôle Ressource Régional de la Création en Environnement Numérique (Pôle PIXEL)
URL;VALUE=URI:https://polepixel.fr/evenement/bienheureuse-rencontre-12-x-univers-numerique-ugine/
TRANSP:OPAQUE
BEGIN:VALARM
ACTION:DISPLAY
DESCRIPTION:Reminder for BIENHEUREUSE RENCONTRE #12 x Univers Numérique (Ugine)
END:VALARM
END:VEVENT
END:VCALENDAR
