BEGIN:VCALENDAR
VERSION:2.0
PRODID:-//Pôle PIXEL //NONSGML Events //EN
CALSCALE:GREGORIAN
X-WR-CALNAME:Pôle PIXEL
BEGIN:VEVENT
CREATED:20241230T112013Z
UID:11695
DTEND;VALUE=DATE:20250116T113000
DTSTART;VALUE=DATE:20250116T093000
DTSTAMP:20260423T103528Z
LOCATION:Pôle PIXEL — 24 rue Émile Decorps
DESCRIPTION:Petit dej &#8211; Communication d&#8217;entreprise, de l&#8217;identité visuelle à la vidéo
SUMMARY:Communication d’entreprise, de l’identité visuelle à la vidéo
ORGANIZER:Pôle PIXEL
URL;VALUE=URI:https://polepixel.fr/evenement/petit-dej-communication-dentreprise-de-lidentite-visuelle-a-la-video/
TRANSP:OPAQUE
BEGIN:VALARM
ACTION:DISPLAY
DESCRIPTION:Reminder for Communication d&#8217\;entreprise\, de l&#8217\;identité visuelle à la vidéo
END:VALARM
END:VEVENT
END:VCALENDAR
