BEGIN:VCALENDAR
VERSION:2.0
PRODID:-//Pôle PIXEL //NONSGML Events //EN
CALSCALE:GREGORIAN
X-WR-CALNAME:Pôle PIXEL
BEGIN:VEVENT
CREATED:20231108T172741Z
UID:11235
DTEND;VALUE=DATE:20231116T220000
DTSTART;VALUE=DATE:20231116T183000
DTSTAMP:20260425T120707Z
LOCATION:Pôle PIXEL — 24 rue Émile Decorps
DESCRIPTION:Vous l&#8217;avez sûrement remarqué, le Cube accueille depuis le 6 novembre une résidence de création de jeux vidéos, Game Crealab,...
SUMMARY:Sortie de résidence pour Game Crealab
ORGANIZER:Pôle PIXEL x Game Only
URL;VALUE=URI:https://polepixel.fr/evenement/pixel-break-sortie-de-residence-pour-game-crealab/
TRANSP:OPAQUE
BEGIN:VALARM
ACTION:DISPLAY
DESCRIPTION:Reminder for Sortie de résidence pour Game Crealab
END:VALARM
END:VEVENT
END:VCALENDAR
